BEGIN:VCALENDAR
VERSION:2.0
PRODID:-//Armadillo Baseball - ECPv6.6.1//NONSGML v1.0//EN
CALSCALE:GREGORIAN
METHOD:PUBLISH
X-ORIGINAL-URL:http://armadillobaseball.com
X-WR-CALDESC:Events for Armadillo Baseball
REFRESH-INTERVAL;VALUE=DURATION:PT1H
X-Robots-Tag:noindex
X-PUBLISHED-TTL:PT1H
BEGIN:VTIMEZONE
TZID:UTC
BEGIN:STANDARD
TZOFFSETFROM:+0000
TZOFFSETTO:+0000
TZNAME:UTC
DTSTART:20240101T000000
END:STANDARD
END:VTIMEZONE
BEGIN:VEVENT
DTSTART;TZID=UTC:20240109T190000
DTEND;TZID=UTC:20240109T200000
DTSTAMP:20260423T110019
CREATED:20240109T070040Z
LAST-MODIFIED:20240108T004846Z
UID:395-1704826800-1704830400@armadillobaseball.com
SUMMARY:Armadillos Homeschool Tryouts
DESCRIPTION:Armadillos Homeschool tryouts will be hosting at American pastime Batting Cage at 7:00pm to 8:00pm  \nwe are still have Available spots open on our Roster. 
URL:http://armadillobaseball.com/event/armadillos-homeschool-tryouts/
LOCATION:4750 FM 2920 Spring\, texas\, 4750 FM 2920\, Spring\, Texas\, 77388
CATEGORIES:Armadillos varsity Homeschool,Tryouts
ATTACH;FMTTYPE=image/png:http://armadillobaseball.com/wp-content/uploads/2022/06/APSLogo.png
ORGANIZER;CN="Armadillos organization":MAILTO:spring.armadillo@gmail.com
END:VEVENT
END:VCALENDAR